BEGIN:VCALENDAR
VERSION:2.0
PRODID:-//Hillcrest - ECPv6.15.20//NONSGML v1.0//EN
CALSCALE:GREGORIAN
METHOD:PUBLISH
X-WR-CALNAME:Hillcrest
X-ORIGINAL-URL:https://www.livingathillcrest.org
X-WR-CALDESC:Events for Hillcrest
REFRESH-INTERVAL;VALUE=DURATION:PT1H
X-Robots-Tag:noindex
X-PUBLISHED-TTL:PT1H
BEGIN:VTIMEZONE
TZID:America/Los_Angeles
BEGIN:DAYLIGHT
TZOFFSETFROM:-0800
TZOFFSETTO:-0700
TZNAME:PDT
DTSTART:20250309T100000
END:DAYLIGHT
BEGIN:STANDARD
TZOFFSETFROM:-0700
TZOFFSETTO:-0800
TZNAME:PST
DTSTART:20251102T090000
END:STANDARD
BEGIN:DAYLIGHT
TZOFFSETFROM:-0800
TZOFFSETTO:-0700
TZNAME:PDT
DTSTART:20260308T100000
END:DAYLIGHT
BEGIN:STANDARD
TZOFFSETFROM:-0700
TZOFFSETTO:-0800
TZNAME:PST
DTSTART:20261101T090000
END:STANDARD
BEGIN:DAYLIGHT
TZOFFSETFROM:-0800
TZOFFSETTO:-0700
TZNAME:PDT
DTSTART:20270314T100000
END:DAYLIGHT
BEGIN:STANDARD
TZOFFSETFROM:-0700
TZOFFSETTO:-0800
TZNAME:PST
DTSTART:20271107T090000
END:STANDARD
END:VTIMEZONE
BEGIN:VEVENT
DTSTART;TZID=America/Los_Angeles:20260508T113000
DTEND;TZID=America/Los_Angeles:20260508T140000
DTSTAMP:20260420T031328
CREATED:20260407T151052Z
LAST-MODIFIED:20260407T151317Z
UID:10000127-1778239800-1778248800@www.livingathillcrest.org
SUMMARY:Lunch & Learn: Life Plan Living 101 Roundtable
DESCRIPTION:Thinking about the future but not sure where to start? Pull up a seat at our Life Plan Living 101 Roundtable. Enjoy lunch while we talk about how Life Plan communities work and what makes Hillcrest unique. You can also opt in for a golf cart tour of the campus\, fitness center and residences. Bring a friend and your questions. RSVP required. \nRSVP Here
URL:https://www.livingathillcrest.org/event/lunch-learn-life-plan-living-101-roundtable-2/
LOCATION:Hillcrest\, 2705 Mountain View Drive\, La Verne\, CA\, 91750\, United States
CATEGORIES:Event
ATTACH;FMTTYPE=image/png:https://www.livingathillcrest.org/wp-content/uploads/2026/04/Life-Plan-Living-101-Roundtable.png
END:VEVENT
END:VCALENDAR