BEGIN:VCALENDAR
VERSION:2.0
PRODID:-//Hillcrest - ECPv6.15.20//NONSGML v1.0//EN
CALSCALE:GREGORIAN
METHOD:PUBLISH
X-ORIGINAL-URL:https://www.livingathillcrest.org
X-WR-CALDESC:Events for Hillcrest
REFRESH-INTERVAL;VALUE=DURATION:PT1H
X-Robots-Tag:noindex
X-PUBLISHED-TTL:PT1H
BEGIN:VTIMEZONE
TZID:America/Los_Angeles
BEGIN:DAYLIGHT
TZOFFSETFROM:-0800
TZOFFSETTO:-0700
TZNAME:PDT
DTSTART:20250309T100000
END:DAYLIGHT
BEGIN:STANDARD
TZOFFSETFROM:-0700
TZOFFSETTO:-0800
TZNAME:PST
DTSTART:20251102T090000
END:STANDARD
BEGIN:DAYLIGHT
TZOFFSETFROM:-0800
TZOFFSETTO:-0700
TZNAME:PDT
DTSTART:20260308T100000
END:DAYLIGHT
BEGIN:STANDARD
TZOFFSETFROM:-0700
TZOFFSETTO:-0800
TZNAME:PST
DTSTART:20261101T090000
END:STANDARD
BEGIN:DAYLIGHT
TZOFFSETFROM:-0800
TZOFFSETTO:-0700
TZNAME:PDT
DTSTART:20270314T100000
END:DAYLIGHT
BEGIN:STANDARD
TZOFFSETFROM:-0700
TZOFFSETTO:-0800
TZNAME:PST
DTSTART:20271107T090000
END:STANDARD
END:VTIMEZONE
BEGIN:VEVENT
DTSTART;TZID=America/Los_Angeles:20260206T100000
DTEND;TZID=America/Los_Angeles:20260206T120000
DTSTAMP:20260424T015845
CREATED:20260105T164523Z
LAST-MODIFIED:20260105T165233Z
UID:10000109-1770372000-1770379200@www.livingathillcrest.org
SUMMARY:Passport to Possibility: Meet the Residents Day
DESCRIPTION:Get your “passport” to Hillcrest and explore all we have to offer! Enjoy light refreshments\, meet our friendly staff and residents\, and discover what makes our community truly exceptional. This annual event is highly popular\, so RSVP to secure your spot! Each visit offers a unique glimpse into Hillcrest’s warm\, welcoming lifestyle. \nRSVP Here
URL:https://www.livingathillcrest.org/event/passport-to-possibility-meet-the-residents-day/
LOCATION:Hillcrest\, 2705 Mountain View Drive\, La Verne\, CA\, 91750\, United States
CATEGORIES:Event
ATTACH;FMTTYPE=image/png:https://www.livingathillcrest.org/wp-content/uploads/2026/01/Thrive-for-the-100-Year-Life.png
END:VEVENT
END:VCALENDAR